BEGIN:VCALENDAR
VERSION:2.0
PRODID:Events Booking
BEGIN:VEVENT
UID:69e92db277d60
SUMMARY:Âgisme : c’est quoi le problème avec mon âge!?
DESCRIPTION:
 
 
 
 
 
 
 
 
 
  
  
 
 ANIMÉ PARJessica Du
 puis
 Coordonnatrice nationale en gestion de projet pour la Fédération 
 des Aînés et des Aînées francophones du Canada et intervenante psychos
 ociale.
 
 
 
 
 DESCRIPTION
 Cet atelier interactif vise à éduque
 r les participants sur la discrimination basée sur l’âge\, à promouvo
 ir le respect et la dignité des aînés\, et à encourager une société 
 plus inclusive. Les participants découvriront :
 
 Les notions clés de
  l’âgisme et ses conséquences.
 Les stéréotypes liés à l’âge e
 t leurs impacts.
 Des pistes de réflexion personnelle sur les attitudes 
 âgistes.
 Des moyens concrets pour favoriser l’inclusion intergénéra
 tionnelle et lutter contre l’âgisme au quotidien.
 
 Une belle opport
 unité pour construire un avenir empreint de respect et d’égalité entr
 e les générations!
  
  
 
 
 
 
DTSTART:20250226T200000Z
DTSTAMP:20230127T030932Z
ORGANIZER;CN=Carrefour 50+ CB:MAILTO:dg@carrefour50cb.ca
END:VEVENT
END:VCALENDAR