BEGIN:VCALENDAR
VERSION:2.0
PRODID:Events Booking
BEGIN:VEVENT
UID:69e85391653f1
SUMMARY:Ai-je besoin de vitamines ? 
DESCRIPTION:
 
 
 
 
 
 
 
 
 
 
 Ai-je besoin de vitamine?
 DE
 SCRIPTION
 \"Ai-je besoin de vitamines ?\" est une question courante face
  à l'abondance de suppléments dans les pharmacies. En adoptant une alime
 ntation équilibrée conforme au guide alimentaire canadien\, vous pourrie
 z déjà couvrir vos besoins en vitamines et minéraux. Cependant\, avec l
 'âge\, ces besoins évoluent et des carences peuvent survenir\, particuli
 èrement après 50 ans. Notre présentation vous éclairera sur les suppl
 éments essentiels recommandés pour cette tranche d'âge\, vous aidant à
  faire des choix informés pour votre santé.
 &nbsp\;
 
 
 
 
 
 
 
 
 
 &nbsp\;
 
 ANIMÉ PARDre Michelle Dion&nbsp\;
 
 
 
 
 Dre 
 Michelle Dion
 Dre Michelle Dion est très impliquée dans la communauté
  francophone. En plus d’exercer la médecine familiale à Edmonton\, ell
 e est l’initiatrice d’Educ-Franco Santé\, un organisme qui\, avec les
  étudiants francophones de l’université de l’Alberta\, a pour missio
 n d’éduquer la population francophone en milieu minoritaire sur des suj
 ets de santé via de courtes vidéos que vous pouvez retrouver sur le site
  Educ-Franco Santé YouTube ou par des présentations comme celle d’aujo
 urd’hui. Son mantra est bien simple\, la santé de la population passe d
 ’abord par l’information.
 &nbsp\;
 
 
 
 
 
 
 
 &nbsp\;
 
 
 
 
 
 
 
 &nbsp\;
 
 
 
DTSTART:20251127T020000Z
DTSTAMP:20250708T235416Z
ORGANIZER;CN=Carrefour 50+ CB:MAILTO:dg@carrefour50cb.ca
END:VEVENT
END:VCALENDAR