BEGIN:VCALENDAR
VERSION:2.0
PRODID:Events Booking
BEGIN:VEVENT
UID:69e82532ae1f5
SUMMARY:Aimer de nouveau après une séparation ou une perte
DESCRIPTION:
 
 
 
 
 
 
 
 
 Aimer de nouveau après une séparat
 ion ou une perte
 &nbsp\;
 DESCRIPTION
 L’amour\, c’est beau\, ça 
 fait du bien\, et ça peut être compliqué surtout après avoir souffert.
  La bonne nouvelle c’est qu’il n’est jamais trop tard pour en retrou
 ver le chemin.
 &nbsp\;
 Objectifs :&nbsp\;
 Savoir où vous en êtes a
 vec l’amour
 Faire le deuil du passé pour aller de l’avant
 Identif
 ier ce que l’on a envie de vivre\, offrir et recevoir
 Ouvrir son coeur
  malgré la peur
 &nbsp\;
 Un atelier interactif pour réouvrir son cœu
 r à la possibilité d’aimer\, tout en honorant ses blessures passées.
 
 
 
 
 
 
 
 
 
 
 
 &nbsp\;
 
 ANIMÉ PARAudrey Dupuy
 
 
 
 
 
 &nbsp\;
 Praticienne certifiée en santé mentale\, gestion de cr
 ise et accompagnement de fin de vie\, je donne des ateliers de développem
 ent personnel et j'accompagne depuis plus de cinq ans des femmes en quête
  de transformation intérieure et d’épanouissement\, dans tous les chap
 itres de leur vie. 
 &nbsp\;
 
 
 
 
 
 
 
 &nbsp\;
 
 
 
 

  
 
 &nbsp\;
 
 
 
DTSTART:20260121T200000Z
DTSTAMP:20251213T091401Z
ORGANIZER;CN=Carrefour 50+ CB:MAILTO:dg@carrefour50cb.ca
END:VEVENT
END:VCALENDAR