BEGIN:VCALENDAR
VERSION:2.0
PRODID:Events Booking
BEGIN:VEVENT
UID:69e8fd3fc4856
SUMMARY:Collage à la manière de Matisse
DESCRIPTION:
 
 
 
 
 
 
 
 
 
 
 Atelier d'expression créative
  : Collage à la manière de Matisse&nbsp\;
 DESCRIPTION
 
 
 Découve
 rte de ses oeuvres et de la technique de Henri Martisse
 Réalisation d'u
 ne oeuvre inspirée.
 Matériel : une feuille cartonnée blanche ou carto
 n de récupération pour le support.
 Papiers de couleur ou pages de maga
 zine\,
 Ciseaux\, colle stick ou blanche\, pinceaux\, sharpie
 Pot\, eau
 \, chiffon
 &nbsp\;
 
 
 
 
 
 
 
 
 
 &nbsp\;
 &nbsp\;
 
 A
 NIMÉ PARMurielle Marc
 
 
 
 
 BIOGRAPHIE
 &nbsp\;
 
 
 
 
DTSTART:20250429T190000Z
DTSTAMP:20240106T035922Z
ORGANIZER;CN=Carrefour 50+ CB:MAILTO:dg@carrefour50cb.ca
END:VEVENT
END:VCALENDAR