BEGIN:VCALENDAR
VERSION:2.0
PRODID:Events Booking
BEGIN:VEVENT
UID:69e8eed8770ec
SUMMARY:Atelier créatif : Collage à la manière de Picasso
DESCRIPTION:
 
 
 
 &nbsp\;
 
 
 
 
 
 
 
 Atelier créatif :&n
 bsp\;Collage à la manière de Picasso
 DESCRIPTION
 
 
 Collage à la
  manière de Picasso
 
 Découverte de ses oeuvres et de la technique de
  Pablo Picasso
 Réalisation d'une oeuvre inspirée.
 
 Matériel : une
  feuille cartonnée blanche ou carton de récupération pour le support.

  Papiers de couleur ou pages de magazine&nbsp\;et pages imprimées fournie
 s
 Ciseaux\, colle stick ou blanche\, pinceaux
 Pot\, eau\, chiffon
 

  
 
 
 
 
 
 
 
 
 
 &nbsp\;
 &nbsp\;
 
 ANIMÉ PARMurielle M
 arc
 
 
 
 
 &nbsp\;
 &nbsp\;
 
 
 
 
DTSTART:20250527T190000Z
DTSTAMP:20240106T035922Z
ORGANIZER;CN=Carrefour 50+ CB:MAILTO:dg@carrefour50cb.ca
END:VEVENT
END:VCALENDAR