BEGIN:VCALENDAR
VERSION:2.0
PRODID:Events Booking
BEGIN:VEVENT
UID:69e915ca73776
SUMMARY:Atelier d'expression créative
DESCRIPTION:
 
 
 
  
 
 
 
 
 
 
 Atelier d'expression créati
 ve
 DESCRIPTION
 
  
 
 
 
 
 
 
 
 
  
  
 
 ANIMÉ PAR
 Murielle Marc
 
 
 
 
 BIOGRAPHIE
  
 
 
 
 
DTSTART:20250311T190000Z
DTSTAMP:20240106T035922Z
ORGANIZER;CN=Carrefour 50+ CB:MAILTO:dg@carrefour50cb.ca
END:VEVENT
END:VCALENDAR