BEGIN:VCALENDAR
VERSION:2.0
PRODID:Events Booking
BEGIN:VEVENT
UID:69e7923a9fa26
SUMMARY:Bénévoles 50+ - Comprendre les défis et les émotions liés à l
 'immigration
DESCRIPTION:
 
 
 
 
 
 
 
 
 Comprendre les défis et les émotio
 ns liés à l'immigration pour mieux aider.&nbsp\;
 DESCRIPTION
 
 Atel
 ier n°6 - Atelier Formation \"Bénévoles 50+\"&nbsp\;
 L’immigration:
  un mot qui recouvre une multitude d’histoires\, de situations et d’é
 motions\, qui peuvent aussi évoluer au fil du temps pour une même person
 ne. À travers des échanges et des pistes de réflexion\, les participant
 s seront invités durant l'atelier à se mettre dans la peau d’un nouvel
  immigrant afin de mieux le comprendre et de mieux saisir ses émotions\, 
 défis et réalités. L’atelier met en lumière la diversité des parcou
 rs et des raisons qui amènent les personnes à immigrer. L’objectif de 
 l'atelier est de donner aux bénévoles des repères concrets pour communi
 quer avec empathie\, créer un climat de confiance et accompagner les nouv
 eaux arrivants de manière humaine\, adaptée et efficace..
 &nbsp\;
 

  
 
 
 
 
 
 
 
 
 
 &nbsp\;
 
 ANIMÉ PARAurore Lacas
 
 

  
 
 Aurore Lacas a vécu plus de 10 ans d’expatriation entre les Éta
 ts-Unis et le Canada\, avec des expériences d’immigration très différ
 entes qui ont profondément marqué son parcours. Ancienne cheffe de proje
 t\, elle a traversé un burnout qui l’a amenée à tout remettre en ques
 tion. Son chemin professionnel ou elle n’était plus alignée avec ses v
 aleurs et sa mission\, et son expérience d’immigrante avec les défis d
 ’identité et d’adaptation que cela peut entraîner. Aujourd’hui\, e
 lle est Coach de vie certifiée et accompagne les femmes immigrantes et ex
 patriées à retrouver leur identité\, sérénité et confiance\, afin d'
 oser s'affirmer et construire une vie plus épanouissante et équilibrée.
 &nbsp\;
 
 
 
 
 
 
 
 &nbsp\;
 
 
 
 
 
 
 &nbsp\;
 
 

  
DTSTART:20260324T190000Z
DTEND:20260324T203000Z
DTSTAMP:20260311T023109Z
ORGANIZER;CN=Carrefour 50+ CB:MAILTO:dg@carrefour50cb.ca
END:VEVENT
END:VCALENDAR