BEGIN:VCALENDAR
VERSION:2.0
PRODID:Events Booking
BEGIN:VEVENT
UID:69e7743adafbe
SUMMARY:Bénévoles 50+ - Connaître ses droits et devoirs de bénévole
DESCRIPTION:
 
 
 
 
 
 
 
 
 Connaître ses droits et devoirs de 
 bénévole
 DESCRIPTION
 
 Atelier n°7 - Formation \"Bénévoles 50+\"
 
 &nbsp\;
 
 
 
 
 
 Bien comprendre ce que vous avez le droit de f
 aire en tant que personne bénévole mais également ce que vous ne pouvez
  pas faire\, les limites de vos actions\, l'impact de vos actions sur les 
 bénféciaires\, comment vous engagez une association quand vous agissez d
 ans son cadre...
 Un atelier 100% pratique pour bien comprendre les enjeu
 x de ce rôle que tout bénévole devrait (idéalement!) recevoir avant de
  faire ses premières actons.
 
 
 
 
 &nbsp\;
 
 ANIMÉ PARMarie-N
 öel Campbell
 
 
 
 
 Marie-Noël a été admise au barreau dans l'
 État de New York et en Colombie-Britannique. Elle a débuté sa carrière
  juridique au Canada au sein d'une organisation pro bono où elle a lancé
  et géré des programmes de représentation de clients devant divers trib
 unaux. Elle a ensuite été nommée arbitre à la Commission d'examen de l
 a santé mentale\, puis a ouvert son cabinet d'avocat\, se concentrant pri
 ncipalement sur le droit de l'immigration et des réfugiés et le droit du
  logement. Elle a maintenant l'honneur de servir les ainés de la Colombie
 -Britannique avec l'équipe dévouée de Seniors First BC.&nbsp\;
 
 
 
 
 
 
 
 
 &nbsp\;
 
 
 
 
 
 
 &nbsp\;
 
 
 
DTSTART:20260402T190000Z
DTEND:20260402T203000Z
DTSTAMP:20260316T213136Z
ORGANIZER;CN=Carrefour 50+ CB:MAILTO:dg@carrefour50cb.ca
END:VEVENT
END:VCALENDAR