BEGIN:VCALENDAR
VERSION:2.0
PRODID:Events Booking
BEGIN:VEVENT
UID:69e78dc1de476
SUMMARY:Bénévoles 50+ - Histoire d'immigrante inspirante : Marthe Moukand
 a
DESCRIPTION:
 
 
 
 
 
 
 
 
 Histoire d'immigrante inspirante : M
 arthe Moukanda
 DESCRIPTION
 
 &nbsp\;
 Atelier n°3 - Formation \"Bé
 névoles 50+\"
 Née en République du Congo\, passée par l’Europe\, l
 es États-Unis et le Canada\, Marthe Moukanda a fait de l’immigration bi
 en plus qu’un parcours personnel : une véritable vocation.
 &nbsp\;
 
 Témoignage de celle qui le dit elle-même\, elle est « tombée en amour 
 de l’immigration » dès le début de sa vie professionnelle.
 À trave
 rs son engagement auprès des femmes immigrantes francophones\, elle œuvr
 e pour que l’exil ne soit jamais synonyme de renoncement\, mais devienne
  un espace de reconstruction\, d’autonomie et d’espoir\, à tout âge 
 de la vie.
 
 
 
 
 
 
 &nbsp\;
 
 ANIMÉ PARMarthe Moukanda
 

  
 
 
 &nbsp\;
 
 
 
 
 
 
 
 
 
 
 
 
 &nbsp\;
 
 
 

  
 
 
 &nbsp\;
 
 
 
DTSTART:20260305T200000Z
DTEND:20260205T213000Z
DTSTAMP:20260221T013303Z
ORGANIZER;CN=Carrefour 50+ CB:MAILTO:dg@carrefour50cb.ca
END:VEVENT
END:VCALENDAR