BEGIN:VCALENDAR
VERSION:2.0
PRODID:Events Booking
BEGIN:VEVENT
UID:69e78d5e70ea3
SUMMARY:Bénévoles 50+ - Immigration et bénévolat inclusif
DESCRIPTION:
 
 
 
 
 
 
 
 
 Immigration et bénévolat inclusif
 
 DESCRIPTION
 
 &nbsp\;
 Atelier n°4 - Formation \"Bénévoles 50+\"
 
 Les profils issus de l’immigration francophone sont de plus en plus va
 riés en 2026 en CB. Entre jeunes sous PVT pour une expérience internatio
 nale\, résidents permanents en quête d’une nouvelle vie\, travailleurs
  étrangers accueillis par des entreprises canadiennes à travers le progr
 amme de Mobilité francophone\, sans oublier les immigrants canadiens fran
 cophones venus d’autres provinces en recherche de meilleures opportunit
 és. Les parcours de vie sont divers et variés\, de personne seule en sit
 uation de précarité à des familles aux vies accidentées. Cette immigra
 tion francophone poursuit cette envie de se reconstruire.
 Comprendre ces
  réalités est primordial pour s’engager en tant que bénévole dans de
 s organismes communautaires venant en aide aux personnes en cours d’immi
 grations. Le bénévolat\, au-delà de conduire à être sensibilisé auto
 ur de ces enjeux\, permet aussi à toute personne nouvellement arrivée de
  s’impliquer et s’implanter dans la communauté. Dans cet atelier\, Ca
 mille évoquera des parcours de bénévoles que l’on n’envisage pas fo
 rcément\, des valeurs que La Boussole requiert auprès de chaque bénévo
 le\, mais aussi de la richesse de chaque profils des bénévoles.
 
 
 
 
 
 
 
 &nbsp\;
 
 ANIMÉ PARCamille Escande
 
 
 
 
 
 &nbsp\
 ;
 
 
 
 
 
 Arrivée à Vancouver an mars 2022 après uen saison en
  tant que guide de chiens de traîneaux près de Victoriavlle\, au Québec
 \, Camille a rapidement intégré l'équipe de La Boussole. D'abord coordi
 natrice de projet\, elle a esnuite pris en chargela gestion des programmes
  culturels et communautaires. Après avoir débuté sa carrière dans l'h
 ôtellerie\, Camille a ressenti le besoin de se tourner vers un organisme 
 qui reflète ses valeurs et lui permet de s'épanouir pleinement. Passionn
 ée par les animaux\, en particulier par les chiens\, elle aime aussi part
 ager de bons repas avec sa famille et ses amis.
 
 
 
 
 
 
 
 &nb
 sp\;
 
 
 
 
 
 
 &nbsp\;
 
 
 
DTSTART:20260326T190000Z
DTEND:20260326T203000Z
DTSTAMP:20260310T044749Z
ORGANIZER;CN=Carrefour 50+ CB:MAILTO:dg@carrefour50cb.ca
END:VEVENT
END:VCALENDAR