BEGIN:VCALENDAR
VERSION:2.0
PRODID:Events Booking
BEGIN:VEVENT
UID:69e78eab0902e
SUMMARY:Bénévoles 50+ - S'épanouir en tant que bénévole
DESCRIPTION:
 
 
 
 
 
 
 
 
 S'épanouir en tant que bénévole

  DESCRIPTION
 
 Atelier n°8 - Formation \"Bénévoles 50+\"
 &nbsp\;

  
 
 
 
 
 Cet atelier de clôture vise à aider les bénévoles à a
 border leur engagement avec confiance et sérénité. Même bien préparé
 es\, plusieurs personnes peuvent ressentir des doutes ou des inquiétudes 
 avant de commencer leur première expérience bénévole.
 À travers des
  exemples concrets et des outils simples\, nous explorerons comment mieux 
 comprendre et gérer ses émotions\, reconnaître ses ressources personnel
 les et développer une posture intérieure qui favorise un engagement dura
 ble. Une attention particulière sera également portée à la richesse de
  l’expérience de vie des personnes de 50 ans et plus. Leur parcours\, l
 eurs compétences et leur sagesse constituent des ressources précieuses q
 ui peuvent contribuer de manière significative aux communautés et aux or
 ganisations qu’elles choisissent de soutenir.
 L’atelier mettra aussi
  en lumière comment l’engagement bénévole peut favoriser la création
  de nouveaux liens et le développement d’un réseau de soutien. Les par
 ticipants pourront ainsi découvrir comment cette expérience peut à la f
 ois enrichir leur propre parcours et leur permettre d’apporter la riches
 se de leur expérience aux personnes et aux communautés qu’ils accompag
 nent.
 Une période d’échanges et de questions permettra également au
 x participants de partager leurs réflexions et de repartir rassurés et m
 otivés pour débuter leur parcours bénévole.
 
 
 
 
 &nbsp\;
 

  ANIMÉ PARMarie-France Lapierre
 
 
 
 
 Marie-France est psychologu
 e et coach professionnelle certifiée (PCC – International Coaching Fede
 ration) et accompagne depuis plus de 35 ans des personnes\, des équipes e
 t des organisations dans leur développement et leurs transitions. Elle a 
 travaillé comme fonctionnaire aux niveaux provincial et fédéral et\, à
  la suite de sa retraite\, a amorcé une pratique privée.
 En plus de l
 ’accompagnement qu’elle offre aux individus et aux couples\, elle prop
 ose des formations et anime des conversations et des ateliers sur des thè
 mes liés au bien-être\, à la croissance personnelle\, au leadership\, 
 à la parentalité ainsi qu’à divers enjeux en psychologie et en coachi
 ng. Elle participe aussi activement à la formation de nouveaux coachs pro
 fessionnels de niveau avancé.
 Bénévole de façon ininterrompue depuis
  1999\, elle croit profondément à la force de l’engagement communautai
 re et à la richesse que chacun peut apporter à sa communauté. Son parco
 urs l’a amenée à contribuer dans plusieurs secteurs\, notamment la com
 munauté francophone\, les arts et la culture\, l’éducation\, l’immig
 ration\, les aînés et la santé.
 Elle siège actuellement sur plusieur
 s conseils d’administration à l’échelle provinciale et nationale et 
 accompagne également des organismes à but non lucratif dans leurs démar
 ches de gouvernance et de planification stratégique.
 Elle est convaincu
 e que l’engagement bénévole permet non seulement de soutenir les commu
 nautés\, mais aussi de créer des liens\, de donner du sens à son parcou
 rs et de continuer à grandir à tout âge. Pour elle\, chaque personne po
 rte une richesse d’expérience qui mérite d’être partagée et reconn
 ue au sein de la communauté.
 
 
 
 
 
 
 
 &nbsp\;
 
 
 
 

  
 
 &nbsp\;
 
 
 
DTSTART:20260330T190000Z
DTEND:20260330T203000Z
DTSTAMP:20260312T023952Z
ORGANIZER;CN=Carrefour 50+ CB:MAILTO:dg@carrefour50cb.ca
END:VEVENT
END:VCALENDAR