BEGIN:VCALENDAR
VERSION:2.0
PRODID:Events Booking
BEGIN:VEVENT
UID:69e7f2cb70642
SUMMARY:Bénévoles 50+ - Structurer et animer un atelier en tant que bén
 évole
DESCRIPTION:
 
 
 
 
 
 
 
 
 Structurer et animer une activité e
 n tant que bénévole
 DESCRIPTION
 
 Atelier n°2 - Formation \"Béné
 voles 50+\"
 Animer un atelier\, c’est bien plus que transmettre des in
 formations. C’est créer un espace où chacun se sent accueilli\, reconn
 u\, utile. Un espace où l’on partage\, où l’on apprend les uns des a
 utres\, où l’on repart avec de l’énergie et le plaisir d’avoir aug
 menté ses&nbsp\;compétences\, ses connaissances.
 Cet atelier s’adres
 se aux bénévoles de plus de 50 ans qui souhaitent animer des ateliers vi
 vants\, humains et motivants\, en s’appuyant sur leur richesse d’expé
 rience\, leur besoin de sens et leur envie de partage.
 Dans une dynamiqu
 e participative\, les participants découvriront comment structurer un ate
 lier clair et sécurisant\, (objectifs\, rythme\, posture de l’animateur
 \, gestion de l’énergie du groupe) tout en expérimentant des méthodes
  d’animation participatives favorisant l’échange\, l’intelligence c
 ollective et le plaisir d’être ensemble.
 
 
 
 
 
 
 
 
 
 
 
 
 &nbsp\;
 
 ANIMÉ PARDominique Mascle
 
 
 
 
 Depuis plus de 
 25 ans\, Dominique Mascle anime des formations et accompagne des groupes e
 n France et\, aujourd’hui&nbsp\;en Colombie Britannique.
 Diplômée de
  deux Masters en Communication et Ressources Humaines\, certifiée en Coac
 hing&nbsp\;et Sophrologie\, elle aime transmettre mes compétences et mon 
 expérience. Elle intervient régulièrement auprès de publics variés\, 
 professionnels ou bénévoles pour développer leurs compétences en anima
 tion et communication.
 Son approche allie cadre\, bienveillance et effic
 acité pour favoriser la dynamique collective et la&nbsp\;confiance.
 Son
  objectif est d’aider chacun à construire sa légitimité et se sentir 
 à l’aise\, capable de faire vivre un&nbsp\;groupe en y trouvant du plai
 sir.
 
 
 
 
 
 
 
 &nbsp\;
 
 
 
 
 
 
 &nbsp\;
 
 
 
DTSTART:20260226T200000Z
DTEND:20260226T213000Z
DTSTAMP:20260221T012028Z
ORGANIZER;CN=Carrefour 50+ CB:MAILTO:dg@carrefour50cb.ca
END:VEVENT
END:VCALENDAR