BEGIN:VCALENDAR
VERSION:2.0
PRODID:Events Booking
BEGIN:VEVENT
UID:69e8d0111bc1d
SUMMARY:BINGO! BINGO! BINGO!
DESCRIPTION:
 
 
 
 
 
 
 
 
 
 
 &nbsp\;
 
 ANIMÉ PAR
 Radi
 o Victoria
 
 
 
 
 Si vous aimez les jeux\, rejoignez-nous pour une 
 heure de Bingo en ligne animée par Radio Victoria.
 *** 3 cartes cadeaux
  de $25 seront remis aux gagnants
 Pas d'inquiétude si vous n'avez jamai
 s joué au bingo en ligne avant\, Radio-Victoria vous guidera à travers l
 e processus. Le but principal est de passer un bon moment ensemble dans un
 e ambiance conviviale et détendue.
 Alors\, faites une pause\, préparez
  une tasse de votre boisson préférée\, et rejoignez-nous pour une heure
  de rires et de divertissement. Que vous jouiez seul ou avec des amis\, no
 us sommes impatients de vous voir en ligne pour cette partie de bingo inou
 bliable.
 
 
 
 
 
 
 
 &nbsp\;
 
 
 
DTSTART:20250610T190000Z
DTSTAMP:20230726T063936Z
ORGANIZER;CN=Carrefour 50+ CB:MAILTO:dg@carrefour50cb.ca
END:VEVENT
END:VCALENDAR