BEGIN:VCALENDAR
VERSION:2.0
PRODID:Events Booking
BEGIN:VEVENT
UID:69e95c11eceb7
SUMMARY:Chantons l'hiver
DESCRIPTION:
 
 
 
 
 
 
 
 
 
 
 Chantons l'hiver!
 DESCRIPTIO
 N
 Cet atelier vous invite à plonger dans l'univers des chansons francop
 hones d'hiver\, célébrant la beauté et la magie de la saison froide à 
 travers la musique. Suzanne Bernard partagera des anecdotes\, des histoire
 s et des analyses de chansons emblématiques qui ont marqué les hivers fr
 ancophones. 
 À travers des écoutes interactives et des discussions enr
 ichissantes\, découvrez comment ces chansons capturent l'essence de l'hiv
 er et évoquent des souvenirs chaleureux. Venez chanter\, écouter et part
 ager un moment convivial autour de la musique qui réchauffe le cœur pend
 ant la saison hivernale.
 
 
 
 
 
 
 
 
 &nbsp\;
 
 ANIMÉ PAR
 Suzanne Bernard
 
 
 
 
 BIOGRAPHIE
 Suzanne\, originaire de Montré
 al\, habite à Parksville\, sur l’Île de Vancouver depuis 1986. Profess
 eur retraitée\, elle a enseigné en français au Québec\, en Afrique (To
 go) et en Colombie-Britannique de la Prématernelle à l’Université au 
 cours de sa carrière. Elle a œuvré comme bénévole pendant 10 ans à l
 ’École Océane de Nanaimo que ses 2 petites-filles fréquentaient. &nbs
 p\;Elle est la fondatrice et la coordonnatrice du groupe local de femmes 
 ‘Nous Chantons’\, depuis 15 ans. Ce groupe se rencontre à chaque sema
 ine pour le pur plaisir de chanter et de communiquer en français. Cette 
 équipe a collaboré plusieurs fois au Festival du Sirop d’Érable de Na
 naimo en invitant les gens à chanter ensemble.
 &nbsp\;Suzanne est passi
 onnée par la chanson française provenant de différents pays francophone
 s. Elle a créé un ‘Power Point’ en 2 parties\, sur les chansons fran
 çaises à travers le monde\, couvrant plusieurs périodes historiques à 
 travers les siècles. Elle a donné ce cours 2 fois en anglais à VIU (Van
 couver Island University)\, au ‘Elder College’\, invitant les francoph
 iles à découvrir les chansons francophones à travers l’Histoire. &nbs
 p\;Elle désire partager en français ce dossier sur l’origine et l’hi
 stoire des chansons populaires qui ont survécu à travers le temps\, fais
 ant encore partie de notre patrimoine culturel francophone.
 
 
 
 
DTSTART:20241212T200000Z
DTSTAMP:20230726T033544Z
ORGANIZER;CN=Carrefour 50+ CB:MAILTO:dg@carrefour50cb.ca
END:VEVENT
END:VCALENDAR