BEGIN:VCALENDAR
VERSION:2.0
PRODID:Events Booking
BEGIN:VEVENT
UID:69e9600be3bd1
SUMMARY:Chantons Noël
DESCRIPTION:
 
 
 
 
 
 
 
 
 
 
 Chantons Noël
 DESCRIPTION

  Cet atelier festif vous invite à célébrer l'esprit de Noël à travers
  les chants traditionnels francophones. Suzanne Bernard partagera des hist
 oires et des anecdotes autour des chants de Noël les plus aimés\, tout e
 n vous guidant à travers des sessions de chant participatives.
 À trave
 rs des écoutes interactives et des discussions joyeuses\, découvrez l'hi
 stoire et la signification de ces chansons qui apportent la magie des fêt
 es. Venez chanter ensemble\, ressentir la chaleur de la communauté et plo
 nger dans l'ambiance festive de Noël grâce à la musique.
 
 
 
 
 
 
 
 
 
 &nbsp\;
 
 ANIMÉ PARSuzanne Bernard
 
 
 
 
 BIOGRAPHI
 E
 Suzanne\, originaire de Montréal\, habite à Parksville\, sur l’Îl
 e de Vancouver depuis 1986. Professeur retraitée\, elle a enseigné en fr
 ançais au Québec\, en Afrique (Togo) et en Colombie-Britannique de la Pr
 ématernelle à l’Université au cours de sa carrière. Elle a œuvré c
 omme bénévole pendant 10 ans à l’École Océane de Nanaimo que ses 2 
 petites-filles fréquentaient. &nbsp\;Elle est la fondatrice et la coordon
 natrice du groupe local de femmes ‘Nous Chantons’\, depuis 15 ans. Ce 
 groupe se rencontre à chaque semaine pour le pur plaisir de chanter et de
  communiquer en français. Cette équipe a collaboré plusieurs fois au Fe
 stival du Sirop d’Érable de Nanaimo en invitant les gens à chanter ens
 emble.
 &nbsp\;Suzanne est passionnée par la chanson française provenan
 t de différents pays francophones. Elle a créé un ‘Power Point’ en 
 2 parties\, sur les chansons françaises à travers le monde\, couvrant pl
 usieurs périodes historiques à travers les siècles. Elle a donné ce co
 urs 2 fois en anglais à VIU (Vancouver Island University)\, au ‘Elder C
 ollege’\, invitant les francophiles à découvrir les chansons francopho
 nes à travers l’Histoire. &nbsp\;Elle désire partager en français ce 
 dossier sur l’origine et l’histoire des chansons populaires qui ont su
 rvécu à travers le temps\, faisant encore partie de notre patrimoine cul
 turel francophone.
 
 
 
 
DTSTART:20241217T200000Z
DTSTAMP:20230726T033544Z
ORGANIZER;CN=Carrefour 50+ CB:MAILTO:dg@carrefour50cb.ca
END:VEVENT
END:VCALENDAR