BEGIN:VCALENDAR
VERSION:2.0
PRODID:Events Booking
BEGIN:VEVENT
UID:69e852d74f377
SUMMARY:Club de lecture : Silence\, je tombe!
DESCRIPTION:
 
 
 
 
 
 
 RÉSUMÉ DU LIVRE
 Manhattan\, Kansas. Ta
 nia et Paul\, fraîchement débarqués du Canada\, se déchirent. Ils s'ap
 pliquent pourtant à réussir leur intégration au pays des évangélistes
  et des carnivores assumés. Tout pourrait encore suivre son cours normal 
 quand\, sans rime ni raison\, à la faveur de l'ennui et de la géographie
  des parkings\, le drame se produit…
 Sous les atours d'un thriller du 
 désamour vivement mené\, Silence\, je tombe est autant l'histoire d'un v
 ertige intérieur qu'un miroir tendu à l'Amérique profonde des années 1
 990\, en gestation des futurs électeurs de Trump. Douée d'un art certain
  du contrepied\, Michèle Smolkin y radiographie l'âme en vrac d'une femm
 e aux prises avec ses choix\, mais aussi la société qu'elle tente d'appr
 ivoiser. Avec un humour malicieux aggravé d'une implacable lucidité. Aus
 si réjouissant que glaçant.
 Avis important – Club de lecture
 Veuil
 lez noter que le nombre de places pour participer est limité.Si le bouton
  S’inscrire ne s’affiche plus\, cela signifie que toutes les places so
 nt déjà réservées.
 Étant donné que les places sont restreintes\, n
 ous vous prions de respecter votre inscription et d’être présent(e) à
  l’atelier. Dans le cas contraire\, votre prochaine inscription pourrait
  ne pas être prise en considération\, afin de donner la chance à d’au
 tres personnes réellement intéressées de participer.
 &nbsp\;
 Merci 
 de votre compréhension et de votre collaboration&nbsp\;
 &nbsp\;
 &nbsp
 \;
 
 
 
 
DTSTART:20251119T020000Z
DTSTAMP:20250625T024347Z
ORGANIZER;CN=Carrefour 50+ CB:MAILTO:dg@carrefour50cb.ca
END:VEVENT
END:VCALENDAR