BEGIN:VCALENDAR
VERSION:2.0
PRODID:Events Booking
BEGIN:VEVENT
UID:69e88261eee18
SUMMARY:Club de lecture : La langue des choses cachées
DESCRIPTION:
 
 
 
 
 RÉSUMÉ DU LIVRE
 Elle connaît la langue des 
 choses cachées. On l’appelle dans la nuit\, elle vient à la tombée du
  jour. Elle soigne\, répare ce que la folie et la fureur des hommes ont a
 bîmé\, accompagne la mort et repart avant le lever du soleil. C’est so
 n travail. Elle transmet son don jour après jour à son fils\, dans le si
 lence.
 Cette nuit-là\, on appelle la mère dans le hameau du Fond du Pu
 its\, mais c’est le fils qui part. Pour la première fois\, il est seul.
  Et comme toutes les premières fois\, rien ne se passe comme prévu.
 Sa
  mère lui a toujours dit : «Ne laisse jamais de traces de ton passage. 
 » Il obéit toujours à sa mère. Sauf cette nuit-là…
 
 Avis import
 ant – Club de lecture
 Veuillez noter que le nombre de places pour part
 iciper est limité.Si le bouton S’inscrire ne s’affiche plus\, cela si
 gnifie que toutes les places sont déjà réservées.
 Étant donné que 
 les places sont restreintes\, nous vous prions de respecter votre inscript
 ion et d’être présent(e) à l’atelier. Dans le cas contraire\, votre
  prochaine inscription pourrait ne pas être prise en considération\, afi
 n de donner la chance à d’autres personnes réellement intéressées de
  participer.
 Merci de votre compréhension et de votre collaboration 

  
 
 
DTSTART:20250917T010000Z
DTSTAMP:20250625T024058Z
ORGANIZER;CN=Carrefour 50+ CB:MAILTO:dg@carrefour50cb.ca
END:VEVENT
END:VCALENDAR