BEGIN:VCALENDAR
VERSION:2.0
PRODID:Events Booking
BEGIN:VEVENT
UID:69e86d9119dc6
SUMMARY:Club de lecture : La diplomate
DESCRIPTION:
 
 
 
 
 RÉSUMÉ DU LIVRE
 Si Friederike Andermann n’
 avait pas cru en son travail\, elle n’aurait pas gravi un à un les éch
 elons de la carrière diplomatique ni supporté l’ennui de la bureaucrat
 ie ministérielle\, l’angoisse de la zone verte à Bagdad et le désarro
 i de se voir démise de ses fonctions d’ambassadrice d’Allemagne en Ur
 uguay après le meurtre d’une ressortissante\, fille d’une baronne de 
 la presse.. Devenue consule à Istanbul\, Fred s’efforce d’obtenir la 
 libération de Meral\, intellectuelle dissidente à la santé qui décline
 \, et d’aider son fils\, interdit de sortie du territoire pour avoir par
 ticipé à une manifestation pro-kurde à Berlin. Quand elle découvre que
  les autorités turques tiennent cette information de la police fédérale
  allemande elle-même\, et que son ami journaliste se retrouve à son tour
  dans le collimateur du régime\, Fred décide de prendre les choses en ma
 in.. Avec cette satire politique pince-sans-rire\, Lucy Fricke signe un ro
 man brûlant d’actualité\, sur la fragilité des relations internationa
 les\, les dérives autocratiques et la diplomatie de crise. Elle dresse le
  portrait d’une femme d’action qui a dû apprendre la patience\, d’u
 ne diplomate jusqu’ici exemplaire qui\, tiraillée entre sa mission et s
 es idéaux\, refusera de rester impuissante.
 
 
 
 
 Avis important 
 – Club de lecture
 Veuillez noter que le nombre de places pour particip
 er est limité.Si le bouton S’inscrire ne s’affiche plus\, cela signif
 ie que toutes les places sont déjà réservées.
 Étant donné que les 
 places sont restreintes\, nous vous prions de respecter votre inscription 
 et d’être présent(e) à l’atelier. Dans le cas contraire\, votre pro
 chaine inscription pourrait ne pas être prise en considération\, afin de
  donner la chance à d’autres personnes réellement intéressées de par
 ticiper.
 Merci de votre compréhension et de votre collaboration 
 
 
 
 
 
  
 
 
 
 
DTSTART:20251022T010000Z
DTSTAMP:20250625T022901Z
ORGANIZER;CN=Carrefour 50+ CB:MAILTO:dg@carrefour50cb.ca
END:VEVENT
END:VCALENDAR