BEGIN:VCALENDAR
VERSION:2.0
PRODID:Events Booking
BEGIN:VEVENT
UID:69e946cb834d3
SUMMARY:Club de lecture : La version qui n'intéresse personne
DESCRIPTION:
 
 
 
 
 
 
 RÉSUMÉ DU LIVRE
 Gagnant 2024 du Combat
  des livres
 Avertissement : Contenu explicite
 Ce livre contient des de
 scriptions explicites et crues\, notamment de scènes sexuelles\, de conso
 mmation de drogues\, et d'épisodes de beuveries. En raison de son contenu
 \, ce livre est recommandé pour un public averti.
 Elle croyait qu’ici
 \, à l’autre bout du monde\, au confluent de la rivière Klondike et du
  fleuve Yukon\, elle aurait le droit de vivre libre. De coucher avec qui e
 lle veut\, d’aimer qui elle veut\, à visage découvert et sans honte. M
 ais la femme sans honte se déshonore – et contre la femme sans honneur\
 , tous les coups sont permis.
 À dix-huit ans\, Sacha et son meilleur am
 i Tom quittent Montréal sur le pouce et aboutissent à Dawson City\, au Y
 ukon\, où ils trouvent enfin la communauté de punks\, d’anars et de va
 gabonds dont ils rêvaient. Ils adoptent une chienne-louve\, Luna\, et s
 ’installent sur la Sixième Avenue\, dans une cabane sans électricité 
 ni eau courante. De jobs d’été en hivers chômés\, de nuits blanches 
 en road trips\, d’amantes en amants\, des années joyeuses passent dans 
 un monde immense. Quand Sacha tombe amoureuse d’un autre\, Tom se sent t
 rahi : Sacha n’est qu’une pute\, une profiteuse qui mérite d’être 
 punie. Il répand son fiel \; le village choisit son camp. Puis la pandém
 ie frappe. En quarantaine dans une cabane isolée\, seule avec un coloc do
 nt elle doit repousser les avances pressantes\, Sacha compte les jours\, t
 andis que les Dawsonites confinés font son procès.
 
 
 
 
DTSTART:20250122T020000Z
DTSTAMP:20240723T235400Z
ORGANIZER;CN=Carrefour 50+ CB:MAILTO:dg@carrefour50cb.ca
END:VEVENT
END:VCALENDAR