BEGIN:VCALENDAR
VERSION:2.0
PRODID:Events Booking
BEGIN:VEVENT
UID:69e917790e65c
SUMMARY:Club de lecture : Les maisons
DESCRIPTION:
 
 
 
 
 
 
 RÉSUMÉ DU LIVRE
 Dans trois jours\, Tes
 sa\, agente d'immeuble et mère de trois enfants\, a rendez-vous avec un h
 omme.Entre-temps\, il y aura des visites de propriétés\, l'essayage d'un
  maillot de bain\, un pont à ne pas briser\, des rappels de l'enfance\, l
 a peur de vieillir dans l'amertume. Habitée par une peine indélogeable\,
  Tessa examine les contours de son passé. Cesse-t-on un jour de désirer 
 ce que l'on a si ardemment voulu? Roman sur l'amour et la transformation\,
  Les maisons fouille les drames privés qui se révèlent derrière les po
 rtes closes de nos intérieurs encombrés.
 
 
 
 
DTSTART:20250319T010000Z
DTSTAMP:20240723T235400Z
ORGANIZER;CN=Carrefour 50+ CB:MAILTO:dg@carrefour50cb.ca
END:VEVENT
END:VCALENDAR