BEGIN:VCALENDAR
VERSION:2.0
PRODID:Events Booking
BEGIN:VEVENT
UID:69e92f4157b1d
SUMMARY:Club de lecture : Les yeux tristes de mon camion
DESCRIPTION:
 
 
 
 Disponible en version OHdio
 
 
 RÉSUMÉ DU LIV
 RE
 Saviez-vous qu'une vieille Honda était douée de la parole\, qu'une 
 grande tortue sacrée vivait sur le boulevard Pie-IX\, qu'un camion des an
 nées 1950 avait des yeux\, et que ces yeux pouvaient parfois être triste
 s?
 Voilà quelques-unes des merveilles que l'on découvre ici\, ainsi qu
 e mille autres\, grandioses ou infimes\, cachées dans le passé que nous 
 avons oublié\, chez les humbles que nous n'écoutons plus\, ou bien là\,
  tout près\, dans la nature qui nous entoure comme dans la ville que nous
  habitons\, mais que notre modernité trépidante et notre obsession de la
  vitesse et de l'efficacité nous empêchent de saisir. | Résumé adapté
  à partir de celui de l'éditeur
 
 
 
 
DTSTART:20250219T020000Z
DTSTAMP:20240723T235400Z
ORGANIZER;CN=Carrefour 50+ CB:MAILTO:dg@carrefour50cb.ca
END:VEVENT
END:VCALENDAR