BEGIN:VCALENDAR
VERSION:2.0
PRODID:Events Booking
BEGIN:VEVENT
UID:69e98ba769b99
SUMMARY:Club de lecture : Rivières aux cartouches
DESCRIPTION:
 
 
 
 
 Ce livre est disponible en version OHdio
 &nbsp
 \;
 
 
 RÉSUMÉ DU LIVRE
 Vainqueur 2023 du Combat national des livre
 s
 Rivières-aux-Cartouches&nbsp\;s’est écrit comme on bâtit un villa
 ge : à coups de légendes de sous-bois\, de commérages de salon de coiff
 ure\, de secrets de famille\, de rumeurs de cour d’école\, d’aveux pi
 s de mensonges. C’est une profusion de langues sales et de gorges enraci
 nées de travers qui crient fort pour enterrer les autres. Mais suffit de 
 se fermer la yeule pis de prêter l’oreille pour se rendre compte que le
 s voix se mélangent pour finir par n’en former qu’une seule\, celle d
 u village. Rivières-aux-Cartouches\, c’est ça. Pis si tu t’attends 
 à un petit voyage tranquille\, c’est définitivement pas la bonne place
  pour arrêter tanker.
 
 
 
 
DTSTART:20241023T010000Z
DTSTAMP:20240723T235400Z
ORGANIZER;CN=Carrefour 50+ CB:MAILTO:dg@carrefour50cb.ca
END:VEVENT
END:VCALENDAR