BEGIN:VCALENDAR
VERSION:2.0
PRODID:Events Booking
BEGIN:VEVENT
UID:69e8ff9becd3c
SUMMARY:Club de lecture : Séductions à Vancouver
DESCRIPTION:
 
 
 
 
 
 
 RÉSUMÉ DU LIVRE
 Pour connaître Vancou
 ver\, on doit y demeurer\, il n’est pas suffisant de le visiter. C’est
  ce qu’a fait une Française\, jeune trentenaire célibataire\, anticonf
 ormiste et passionnée. Ses tentatives pour trouver l’âme sœur au moye
 n des applications de rencontre donne des confidences tour à tour hilaran
 tes\, jubilatoires\, ironiques et tendres.
 
 
 
 
DTSTART:20250423T010000Z
DTSTAMP:20240723T235400Z
ORGANIZER;CN=Carrefour 50+ CB:MAILTO:dg@carrefour50cb.ca
END:VEVENT
END:VCALENDAR