BEGIN:VCALENDAR
VERSION:2.0
PRODID:Events Booking
BEGIN:VEVENT
UID:69e826bf7b394
SUMMARY:Club de lecture : Un petit monde
DESCRIPTION:
 
 
 
 RÉSUMÉ DU LIVRE
 Dans ce recueil de neuf récits
  autonomes\, Éric Galarneau se remémore la Côte-de-Beaupré des années
  1970 et ses personnages\, en particulier ses malfrats et ses artistes\, e
 t leurs mésaventures. Ni historique\, ni sociologique\, nourri de souveni
 rs et d’invention\, ce recueil met en lumière la Côte-de-Beaupré et l
 es gens qui y ont vécu et qui y vivent encore.
 &nbsp\;
 Avis important
  – Club de lecture
 Veuillez noter que le nombre de places pour partici
 per est limité.Si le bouton S’inscrire ne s’affiche plus\, cela signi
 fie que toutes les places sont déjà réservées.
 Étant donné que les
  places sont restreintes\, nous vous prions de respecter votre inscription
  et d’être présent(e) à l’atelier. Dans le cas contraire\, votre pr
 ochaine inscription pourrait ne pas être prise en considération\, afin d
 e donner la chance à d’autres personnes réellement intéressées de pa
 rticiper.
 &nbsp\;
 Merci de votre compréhension et de votre collaborat
 ion&nbsp\;
 
 
 
 
DTSTART:20260121T020000Z
DTEND:20260121T030000Z
DTSTAMP:20251211T033610Z
ORGANIZER;CN=Carrefour 50+ CB:MAILTO:dg@carrefour50cb.ca
END:VEVENT
END:VCALENDAR