BEGIN:VCALENDAR
VERSION:2.0
PRODID:Events Booking
BEGIN:VEVENT
UID:69e98c8417162
SUMMARY:Comment améliorer sa mémoire 
DESCRIPTION:
 
 
 
 
 
 
 
 
 
 
 Comment améliorer sa mémoire
 
 DESCRIPTION
 Cet atelier vous permettra de découvrir des stratégies 
 efficaces pour renforcer et améliorer votre mémoire au quotidien. Dr. Mi
 chelleDion vous présentera des exercices pratiques\, des conseils nutriti
 onnels\, et des habitudes de vie qui favorisent une meilleure rétention d
 e l'information. À travers des discussions interactives et des activités
  stimulantes\, apprenez comment booster votre mémoire et maintenir votre 
 cerveau en pleine forme. Venez partager vos expériences\, découvrir de n
 ouvelles perspectives et adopter des techniques qui vous aideront à garde
 r l'esprit vif et alerte.
 &nbsp\;
 
 
 
 
 
 
 
 
 &nbsp\;
 

  ANIMÉ PARDre Michelle Dion&nbsp\;
 
 
 
 
 Dre Michelle Dion
 Dre 
 Michelle Dion est très impliquée dans la communauté francophone. En plu
 s d’exercer la médecine familiale à Edmonton\, elle est l’initiatric
 e d’Educ-Franco Santé\, un organisme qui\, avec les étudiants francoph
 ones de l’université de l’Alberta\, a pour mission d’éduquer la po
 pulation francophone en milieu minoritaire sur des sujets de santé via de
  courtes vidéos que vous pouvez retrouver sur le site Educ-Franco Santé 
 YouTube ou par des présentations comme celle d’aujourd’hui. Son mantr
 a est bien simple\, la santé de la population passe d’abord par l’inf
 ormation.
 &nbsp\;
 
 
 
 
 
 
 
 &nbsp\;
 
 
 
DTSTART:20241015T190000Z
DTSTAMP:20221004T055058Z
ORGANIZER;CN=Carrefour 50+ CB:MAILTO:dg@carrefour50cb.ca
END:VEVENT
END:VCALENDAR