BEGIN:VCALENDAR
VERSION:2.0
PRODID:Events Booking
BEGIN:VEVENT
UID:69e78b3879d7d
SUMMARY:Comprendre les relations entre sommeil\, digestion & rythme naturel
DESCRIPTION:
 
 
 
 
 
 
 
 
 Comprendre la relation entre sommeil
 \, digestion &amp\; rythme naturel
 DESCRIPTION
 
 Un atelier pour mieu
 x comprendre comment le sommeil\, la digestion et le rythme naturel du cor
 ps sont étroitement liés\, et repartir avec des clés simples et des ast
 uces concrètes pour mieux respecter son corps et améliorer son bien-êtr
 e au quotidien.
 
 
 
 
 
 
 
 
 
 
 
 &nbsp\;
 
 ANIMÉ PAR
 Nicole Williamson
 
 
 
 
 Nicole est ostéopathe diplômée d’une 
 formation complète de 5 ans (4800 heures) en thérapie manuelle ostéopat
 hique\, obtenue au Collège d’Ostéopathie de Bordeaux.Passionnée par s
 on métier\, elle a développé une pratique riche grâce à des expérien
 ces variées en milieu sportif et auprès d’enfants en situation de hand
 icap. Son parcours inclut également une expérience d’enseignement\, t
 émoignant de son engagement et de sa maîtrise de la discipline.Lors de s
 a dernière année d’études\, elle a mené une recherche sur l’impact
  des traitements ostéopathiques sur le stress\, intégrant ainsi une dime
 nsion somato-émotionnelle à sa pratique.Membre d’OsteopathyBC\, elle p
 ropose une approche personnalisée et rigoureuse\, combinant différentes 
 techniques adaptées aux besoins de chaque patient.
 
 
 
 
 
 
 

  &nbsp\;
 
 
 
 
 
 
 &nbsp\;
 
 
 
DTSTART:20260527T190000Z
DTSTAMP:20251216T094956Z
ORGANIZER;CN=Carrefour 50+ CB:MAILTO:dg@carrefour50cb.ca
END:VEVENT
END:VCALENDAR