BEGIN:VCALENDAR
VERSION:2.0
PRODID:Events Booking
BEGIN:VEVENT
UID:69e83ab82bd0d
SUMMARY:Cultiver son optimisme grâce aux Fleurs de Bach
DESCRIPTION:
 
 
 
 
 
 
 
 
 
 
 Cultiver son optimiste grâce 
 aux Fleurs de Bach&nbsp\;
 &nbsp\;
 DESCRIPTION
 Les fêtes de fin d’
 année ne sont pas toujours synonymes de joie.
 Solitude\, absence des pr
 oches\, souvenirs douloureux\, journées trop courtes…
 Dans ce context
 e\, garder le moral peut devenir un vrai défi.
 Et si vous donniez un pe
 tit coup de pouce à votre optimisme ?
 &nbsp\;
 C’est justement ce qu
 e permettent les Fleurs de Bach : des élixirs floraux naturels qui aident
  à rééquilibrer les émotions et à retrouver de l’élan — en douce
 ur\, sans effet secondaire.
 &nbsp\;
 Cet atelier vous permettra de&nbsp
 \;:
 
 Comprendre ce que sont les Fleurs de Bach et leur philosophie
 D
 écouvrir comment elles agissent sur l’équilibre émotionnel
 Identifi
 er les émotions les plus fréquentes en fin d’année (tristesse\, repli
 \, nostalgie\, hypersensibilité…)
 Trouver les fleurs adaptées pour s
 outenir votre lumière intérieure et traverser cette période avec plus d
 e légèreté.
 
 &nbsp\;
 Un moment pour vous reconnecter à vous-mêm
 e\, écouter ce qui a besoin d’être accueilli et repartir avec des ress
 ources concrètes pour cultiver la douceur\, même quand les lumières ext
 érieures vacillent.
 
 
 
 
 
 
 
 
 &nbsp\;
 
 ANIMÉ PARFlor
 ence Kowalski
 
 
 
 
 &nbsp\;
 Florence\, originaire des Alpes et i
 nstallée à Vancouver depuis 2024\, accompagne les femmes de 50 ans et pl
 us qui ont besoin de se remettre en mouvement\, physiquement\, mentalement
  et émotionnellement.
 Elle a créé sa propre méthode de bien-être fo
 ndée sur trois piliers complémentaires :– le yoga vinyasa &amp\; yin\,
  pour réveiller le corps et apaiser le mental\,– les Fleurs de Bach\, p
 our rééquilibrer les émotions et relancer l’élan intérieur\,– et 
 des méditations musicales sur mesure\, pour favoriser l’ancrage\, l’e
 xpression et la clarté.
 
 Ses ateliers s’adressent à toutes celles 
 qui veulent se reconnecter à elles-mêmes pour retrouver l’énergie\, l
 a confiance et la force d’ouvrir un nouveau chapitre. Son crédo : « 52
  ans et + vivante que jamais ! »
 &nbsp\;
 
 
 
 
 
 
 
 &nbsp\;
 
 
 
 
 
 
 
 &nbsp\;
 
 
 
DTSTART:20251202T200000Z
DTSTAMP:20250710T023941Z
ORGANIZER;CN=Carrefour 50+ CB:MAILTO:dg@carrefour50cb.ca
END:VEVENT
END:VCALENDAR