BEGIN:VCALENDAR
VERSION:2.0
PRODID:Events Booking
BEGIN:VEVENT
UID:69e828aca40a4
SUMMARY:Déconstruire les mythes autour des douleurs après 50 ans
DESCRIPTION:
 
 
 
 
 
 
 
 
 Déconstruire les mythes autour des 
 douleurs après 50 ans
 &nbsp\;
 DESCRIPTION
 Tout le monde vous dit qu
 e \"c'est normal d'avoir mal\" à tel ou tel autre endroit quand on prend 
 de l'âge... Et si tout ça\, ce n'était juste que des préjugés ?
 &nb
 sp\;
 Un atelier pour déconstruire les fausses croyances autour de ce su
 jet et vous donner envie de retrouver votre forme au quotidien\, quel que 
 soit votre âge !
 
 
 
 
 
 
 
 
 
 
 &nbsp\;
 
 ANIMÉ PARP
 atricia Roppert
 
 
 
 
 &nbsp\;
 Patricia Ropert est osthéopathe e
 t propriétaire de la clinique Wholistic Osteopathy &amp\; Wellness à Van
 couver\, avec plus de 25 ans de pratique clinique. Elle est diplômée en 
 thérapie manuelle ostéopathique (4800 h) de l’ESO à Paris et possède
  une expertise en thérapie crânio-sacrée\, viscérale et autres approch
 es holistiques. Avant de s’installer au Canada\, elle a exercé en Franc
 e pendant 17 ans.Aujourd’hui Patricia travaille avec des patients de tou
 s âges\, des bébés aux personnes âgées et dans diverses situations (s
 tress\, douleurs\, etc.) Elle met l’accent sur une approche empathique\,
  adaptée à l’histoire et aux besoins de chaque personne.
  . 
 &nbsp
 \;
 
 
 
 
 
 
 
 &nbsp\;
 
 
 
 
 
 
 &nbsp\;
 
 
 
DTSTART:20260128T200000Z
DTSTAMP:20251216T073931Z
ORGANIZER;CN=Carrefour 50+ CB:MAILTO:dg@carrefour50cb.ca
END:VEVENT
END:VCALENDAR