BEGIN:VCALENDAR
VERSION:2.0
PRODID:Events Booking
BEGIN:VEVENT
UID:69e8fdc1b2d33
SUMMARY:Défier les stéréotypes et l’âgisme chez les femmes
DESCRIPTION:
 
 
 
 
 
 
 
 
 
 &nbsp\;
 &nbsp\;
 
 ANIMÉ PAR
 Jessica Dupuis
 Coordonnatrice nationale en gestion de projet pour la Fé
 dération des Aînés et des Aînées francophones du Canada et intervenan
 te psychosociale.
 
 
 
 
 DESCRIPTION
 Cet atelier explore les déf
 is uniques auxquels les femmes âgées font face en raison des discriminat
 ions liées à l’âge et au genre. Il offre une occasion de réfléchir 
 et d’agir pour une société plus juste et inclusive.
 Objectifs :
 

  Sensibiliser aux impacts de l’âgisme et du sexisme sur les femmes âg
 ées.
 Déconstruire les stéréotypes et préjugés liés à l’âge et
  au genre.
 Mettre en avant l’autonomie\, la dignité et la valorisatio
 n des femmes âgées.
 Inspirer des actions concrètes pour un environnem
 ent plus équitable.
 
 Un moment pour réfléchir\, échanger et s’en
 gager en faveur de l’égalité et du respect des femmes de tous âges.

  &nbsp\;
 &nbsp\;
 
 
 
 
DTSTART:20250408T190000Z
DTSTAMP:20230127T030932Z
ORGANIZER;CN=Carrefour 50+ CB:MAILTO:dg@carrefour50cb.ca
END:VEVENT
END:VCALENDAR