BEGIN:VCALENDAR
VERSION:2.0
PRODID:Events Booking
BEGIN:VEVENT
UID:69e8cd3abea28
SUMMARY:Détecter la maltraitance des aînés
DESCRIPTION:
 
 
 
 &nbsp\;
 
 
 
 
DTSTART:20250618T190000Z
DTSTAMP:20250605T215414Z
ORGANIZER;CN=Carrefour 50+ CB:MAILTO:dg@carrefour50cb.ca
END:VEVENT
END:VCALENDAR