BEGIN:VCALENDAR
VERSION:2.0
PRODID:Events Booking
BEGIN:VEVENT
UID:69e86c18338ee
SUMMARY:Atelier d'écriture intuitive
DESCRIPTION:
 
 
 
 
 
 
 
 
 
 
 Atelier d'écriture intuitive-
  Gratitude
 Laissez-vous porter par une méditation guidée afin de favor
 iser une connexion à soi et faciliter le processus d'écriture intuitive\
 , qui sera sur le thème de la gratitude. 
 Cet atelier s'adresse à tou
 t le monde\, adepte ou non de l'écriture. Il s'agit avant tout d'une exp
 érience intérieure à vivre grâce à l'écriture. 
 
  
 Prévoir 
 de quoi écrire
 
 
  
  
  
 
 
 
 
 
 
 
 
  
 
 ANI
 MÉ PARLyne Barnabé
 
 
 
 
  
 BIOGRAPHIE
 Originaire de Montré
 al\, Lyne habite Vancouver depuis 1997 où elle a travaillé pendant plus 
 de 25 ans dans le milieu des médias francophones comme animatrice\, journ
 aliste\, scénariste et recherchiste. Elle a également été comédienne\
 , traductrice et dramaturge pour le théâtre\, en plus d'avoir prêté sa
  voix à de nombreux documentaires\, publicités et vidéos corporatives. 
 Elle se consacre dorénavant à l’enseignement de la méditation et à s
 a vocation de médium intuitive et spirituelle.
 
 
 
 
DTSTART:20251029T190000Z
DTSTAMP:20250705T014858Z
ORGANIZER;CN=Carrefour 50+ CB:MAILTO:dg@carrefour50cb.ca
END:VEVENT
END:VCALENDAR