BEGIN:VCALENDAR
VERSION:2.0
PRODID:Events Booking
BEGIN:VEVENT
UID:69e867927462e
SUMMARY:Atelier d'écriture intuitive
DESCRIPTION:
 
 
 
 
 
 
 
 
 
 
 Atelier d'écriture intuitive 
 - Écoute de soi
 Laissez-vous guider par une méditation qui vous amène
  à vous connecter au moment présent pour favoriser le processus d'écrit
 ure intuitive. Utiliser l'écriture pour être davantage à l'écoute de s
 oi\, c'est possible ! Ce sera l'expérience proposée par Lyne Barnabé. 
 
 Cet atelier s'adresse à tout le monde\, adepte ou non de l'écriture. L
 e processus est mis en avant et non le résultat. 
 
 Prévoir de quoi 
 écrire.
  
  
  
 
 
 
 
 
 
 
 
  
 
 ANIMÉ PARLyne B
 arnabé
 
 
 
 
 BIOGRAPHIE
 Originaire de Montréal\, Lyne habite V
 ancouver depuis 1997 où elle a travaillé pendant plus de 25 ans dans le 
 milieu des médias francophones comme animatrice\, journaliste\, scénaris
 te et recherchiste. Elle a également été comédienne\, traductrice et d
 ramaturge pour le théâtre\, en plus d'avoir prêté sa voix à de nombre
 ux documentaires\, publicités et vidéos corporatives. Elle se consacre d
 orénavant à l’enseignement de la méditation et à sa vocation de méd
 ium intuitive et spirituelle.
 
 
 
 
DTSTART:20251001T190000Z
DTSTAMP:20250705T012938Z
ORGANIZER;CN=Carrefour 50+ CB:MAILTO:dg@carrefour50cb.ca
END:VEVENT
END:VCALENDAR