BEGIN:VCALENDAR
VERSION:2.0
PRODID:Events Booking
BEGIN:VEVENT
UID:69e827a0b19bb
SUMMARY:Explorer son intuition par la méditation et l'écriture
DESCRIPTION:
 
 
 
 
 
 
 
 
 Explorer son intuition par la médit
 ation et l'écriture
 DESCRIPTION
 Laissez-vous guider par une méditati
 on qui amène à se connecter à soi et au moment présent\, afin d'explor
 er son intuition à travers l'écriture et/ou le dessin. Un temps de conne
 xion avec le groupe est également prévu.
 Cet atelier s'adresse à tout
  le monde sans pré-requis.
 
 
 
 
 
 
 
 
 
 
 &nbsp\;
 
 A
 NIMÉ PARAngélique Germain
 
 
 
 
 &nbsp\;
 Journaliste\, réalisa
 trice\, artiste et à l'initiative de nombreux projets associatifs en Fran
 ce\, Angélique est à Victoria depuis 2021\, où elle poursuit ses créat
 ions poétiques\, performances et ateliers. L'écriture intuitive est son 
 alliée depuis l'enfance. Sa vocation est de partager son expérience au p
 lus grand nombre avec l'intention de permettre à chacun-e de suivre sa pr
 opre guidance. 
 Elle a notamment créé un concept d'atelier 'Cercle Po
 étique'.&nbsp\;Inspiré par les pratiques méditatives de pleine conscien
 ce issues du bouddhisme zen et ses propres explorations personnelles\, ell
 e apporte dans ses ateliers une approche inédite\, et très souvent libé
 ratrice.&nbsp\;
 &nbsp\;
 
 
 
 
 
 
 
 &nbsp\;
 
 
 
 
 
 
 
 &nbsp\;
 
 
 
DTSTART:20260218T200000Z
DTSTAMP:20251216T081058Z
ORGANIZER;CN=Carrefour 50+ CB:MAILTO:dg@carrefour50cb.ca
END:VEVENT
END:VCALENDAR