BEGIN:VCALENDAR
VERSION:2.0
PRODID:Events Booking
BEGIN:VEVENT
UID:69e84ff977039
SUMMARY:Fraudes et arnaques: rester sur ses gardes
DESCRIPTION:
 
 
 
 
 
 
 
 
 
 
 Fraudes et arnaques: comment r
 ester sur ses gardes ?
  
 DESCRIPTION
 Les arnaques par téléphone e
 t en ligne se multiplient et exploitent notre confiance\, faisant de la fr
 aude financière une menace grandissante\, particulièrement pour les pers
 onnes aînées au Canada. En 2024\, les pertes financières liées aux fra
 udes et arnaques ont représenté 648 millions de dollars dans notre pays.
  Les avancées technologiques compliquent aussi les choses et brouillent l
 es pistes. Cette présentation couvrira les choses essentielles à savoir 
 pour mieux reconnaître et éviter les diverses fraudes et arnaques qui no
 us ciblent au quotidien:
 
 
 
 
 
 
 
 
  
 
 ANIMÉ PARBén
 édict Schoepflin
 
 
 
 
  
 Bénédicte est la directrice génér
 ale du Réseau canadien pour la prévention du mauvais traitement des aîn
 és  depuis 2018. Elle a préalablement travaillé au B.C. Law Institute 
 et sa division\, le  Centre canadien d'études sur le droit des aînés. 
 Elle vit sur les territoires ancestraux et non cédés des peuples Salish 
 de la côte\, notamment les territoires des nations Musqueam\, Squamish et
  Tseil-Waututh\, connus aujourd’hui sous le nom de Vancouver\, en Colomb
 ie-Britannique.
  
 
 
 
 
 
 
 
  
 
 
 
 
 
 
  
 

  
 
DTSTART:20251105T200000Z
DTSTAMP:20250709T232559Z
ORGANIZER;CN=Carrefour 50+ CB:MAILTO:dg@carrefour50cb.ca
END:VEVENT
END:VCALENDAR