BEGIN:VCALENDAR
VERSION:2.0
PRODID:Events Booking
BEGIN:VEVENT
UID:69e78a86459dd
SUMMARY: Histoire musicale - La Soul
DESCRIPTION:
 
 
 
 
 
 
 
 
 HISTOIRE MUSICALE - La Soul
 &nbsp\
 ;
 DESCRIPTION
 La soul est l’expression intense du cœur\, un mélang
 e de gospel\, de blues et d’identité culturelle.&nbsp\; Cet atelier pr
 ésentera les grandes figures du mouvement\, les labels historiques\, et l
 es caractéristiques vocales qui définissent la soul. Grâce à des extra
 its musicaux et des analyses thématiques\, les participants vivront un mo
 ment riche d’émotion et de découverte.
 
 
 
 
 
 
 
 
 
 

  &nbsp\;
 
 ANIMÉ PARTrésor Otshudi
 
 
 
 
 &nbsp\;
 Trésor Ot
 shudi est un chanteur\, chef de chœur et pédagogue musical basé à V
 ancouver. Diplômé en musique et actuellement étudiant à la maı̂t
 rise en&nbsp\; direction chorale\, il est également fondateur du Juste C
 hanter Gospel Choir et de Trésor Music Ministry. Avec plus de 20 ans d’
 expérience combinant gospel\, R&amp\;B\, soul\, jazz et musique classiqu
 e\, il mène des ateliers\, conférences et projets artistiques à trav
 ers le Canada. Passionné par la transmission culturelle et la&nbsp\; pui
 ssance du chant collectif\, Trésor inspire les jeunes à développer l
 eur voix\, leur confiance et leur créativité grâce à la musique. 
 
 &nbsp\;
 
 
 
 
 
 
 
 &nbsp\;
 
 
 
 
 
 
 &nbsp\;
 
 
 
 
DTSTART:20260304T200000Z
DTSTAMP:20251213T075726Z
ORGANIZER;CN=Carrefour 50+ CB:MAILTO:dg@carrefour50cb.ca
END:VEVENT
END:VCALENDAR