BEGIN:VCALENDAR
VERSION:2.0
PRODID:Events Booking
BEGIN:VEVENT
UID:69e80cfda950a
SUMMARY: Histoire musicale - Le R&B
DESCRIPTION:
 
 
 
 
 
 
 
 
 HISTOIRE MUSICALE - Le R&amp\;B
 &n
 bsp\;
 DESCRIPTION
 Cet atelier explore la naissance du Rhythm &amp\; Bl
 ues et son impact sur la musique populaire&nbsp\; moderne. Nous aborderons
  les pionniers du genre\, son lien avec le gospel et le blues\, et sa&nbsp
 \; transformation en R&amp\;B contemporain. À travers l’écoute guidée
  et la discussion d’artistes&nbsp\; phares\, les participants comprendro
 nt comment le R&amp\;B a façonné les sonorités d’aujourd’hui. 
 

  
 
 
 
 
 
 
 
 
 &nbsp\;
 
 ANIMÉ PARTrésor Otshudi
 
 

  
 
 &nbsp\;
 Trésor Otshudi est un chanteur\, chef de chœur et péd
 agogue musical basé à&nbsp\; Vancouver. Diplômé en musique et actu
 ellement étudiant à la maı̂trise en&nbsp\; direction chorale\, il es
 t également fondateur du Juste Chanter Gospel Choir et de Trésor Music 
 Ministry. Avec plus de 20 ans d’expérience combinant gospel\, R&amp\;B
 \,&nbsp\; soul\, jazz et musique classique\, il mène des ateliers\, conf
 érences et projet artistiques à travers le Canada. Passionné par la 
 transmission culturelle et la&nbsp\; puissance du chant collectif\, Trés
 or inspire les jeunes à développer leur voix\, leur confiance et leur 
 créativité grâce à la musique. 
 &nbsp\;
 
 
 
 
 
 
 
 &
 nbsp\;
 
 
 
 
 
 
 &nbsp\;
 
 
 
DTSTART:20260204T200000Z
DTSTAMP:20251213T075237Z
ORGANIZER;CN=Carrefour 50+ CB:MAILTO:dg@carrefour50cb.ca
END:VEVENT
END:VCALENDAR