BEGIN:VCALENDAR
VERSION:2.0
PRODID:Events Booking
BEGIN:VEVENT
UID:69e945885c625
SUMMARY:L'écriture spontanée (1 de 4) 
DESCRIPTION:
 
 
 
 
 
 
 
 
 
 
 Atelier 1 : L'écriture comme 
 outil de transformation personnelleLes participants découvrent l'écritur
 e spontanée pour libérer l'esprit et développer leur créativité. À t
 ravers des exercices de décharge mentale et d'introspection\, ils explore
 nt leurs pensées profondes et prennent conscience de leur monde intérieu
 r.
 
 
 
 
 
 
 
 
 &nbsp\;
 &nbsp\;
 
 ANIMÉ PARVincent Desl
 auriers
 BIOGRAPHIE
 &nbsp\;
 Vincent Deslauriers est un artiste et ens
 eignant passionné d'écriture et de transmission. Avec près de 30 ans d'
 expérience\, il a fait de l'écriture spontanée un outil de transformati
 on personnelle et créative. Sa poésie\, inspirée des paysages\, des ter
 ritoires et des mystères du cosmos\, invite à une exploration profonde e
 t sensible de notre environnement. Animé par le désir de guider et de ra
 conter\, Vincent encourage chacun à écrire\, explorer et transformer\, p
 our révéler l'unicité de ce qui les anime..
 
 
 
 
 &nbsp\;
 
 
 
 
 
DTSTART:20250121T200000Z
DTSTAMP:20241114T065612Z
ORGANIZER;CN=Carrefour 50+ CB:MAILTO:dg@carrefour50cb.ca
END:VEVENT
END:VCALENDAR