BEGIN:VCALENDAR
VERSION:2.0
PRODID:Events Booking
BEGIN:VEVENT
UID:69e92d705f356
SUMMARY:L'écriture spontanée (2 de 4)
DESCRIPTION:
 
 
 
 
 
 
 
 
 
 
 Atelier 2 : Créer un dialogue
  avec ses émotionsCet atelier aide les participants à reconnaître et tr
 ansformer leurs émotions par l'écriture. En donnant une voix à leurs re
 ssentis et en les transformant en métaphores\, ils apprennent à gérer l
 eurs émotions de manière créative plutôt que réactive.
 
 
 
 
 
 
 
 
 
 &nbsp\;
 &nbsp\;
 
 ANIMÉ PARVincent Deslauriers
 BIOGRAP
 HIE
 &nbsp\;
 Vincent Deslauriers est un artiste et enseignant passionn
 é d'écriture et de transmission. Avec près de 30 ans d'expérience\, il
  a fait de l'écriture spontanée un outil de transformation personnelle e
 t créative. Sa poésie\, inspirée des paysages\, des territoires et des 
 mystères du cosmos\, invite à une exploration profonde et sensible de no
 tre environnement. Animé par le désir de guider et de raconter\, Vincent
  encourage chacun à écrire\, explorer et transformer\, pour révéler l'
 unicité de ce qui les anime..
 
 
 
 
 &nbsp\;
 
 
 
 
DTSTART:20250204T200000Z
DTSTAMP:20241114T065612Z
ORGANIZER;CN=Carrefour 50+ CB:MAILTO:dg@carrefour50cb.ca
END:VEVENT
END:VCALENDAR