BEGIN:VCALENDAR
VERSION:2.0
PRODID:Events Booking
BEGIN:VEVENT
UID:69e74f529199f
SUMMARY:L'écriture spontanée (3 de 4)
DESCRIPTION:
 
 
 
 
 
 
 
 
 
 
 Atelier 3 : Enrichir ses relat
 ions par l'écritureDans cet atelier\, l'écriture est utilisée comme un 
 outil pour clarifier et enrichir les relations. Les participants expriment
  des pensées non dites à travers des lettres non envoyées et apprennent
  à voir les situations du point de vue des autres\, renforçant ainsi leu
 r compréhension relationnelle.
 
 
 
 
 
 
 
 
 &nbsp\;
 &nbsp\
 ;
 
 ANIMÉ PARVincent Deslauriers
 BIOGRAPHIE
 &nbsp\;
 Vincent Desl
 auriers est un artiste et enseignant passionné d'écriture et de transmis
 sion. Avec près de 30 ans d'expérience\, il a fait de l'écriture sponta
 née un outil de transformation personnelle et créative. Sa poésie\, ins
 pirée des paysages\, des territoires et des mystères du cosmos\, invite 
 à une exploration profonde et sensible de notre environnement. Animé par
  le désir de guider et de raconter\, Vincent encourage chacun à écrire\
 , explorer et transformer\, pour révéler l'unicité de ce qui les anime.
 .
 
 
 
 
 &nbsp\;
 
 
 
 
DTSTART:20250218T200000Z
DTSTAMP:20241114T065612Z
ORGANIZER;CN=Carrefour 50+ CB:MAILTO:dg@carrefour50cb.ca
END:VEVENT
END:VCALENDAR