BEGIN:VCALENDAR
VERSION:2.0
PRODID:Events Booking
BEGIN:VEVENT
UID:69e915ca3331b
SUMMARY:L'écriture spontanée (4 de 4) 
DESCRIPTION:
 
 
 
 
 
 Atelier 4 : Libérer sa créativité au quoti
 dienLes participants explorent comment intégrer la créativité dans leur
  quotidien. À travers des exercices d'autolouange et de gratitude\, ils a
 pprennent à visualiser leurs désirs et à transformer leurs intentions e
 n actions\, tout en cultivant une vision positive et épanouie de leur vie
 .
 
 
 
 &nbsp\;
 &nbsp\;
 
 ANIMÉ PARVincent Deslauriers
 BIOGRA
 PHIE
 &nbsp\;
 Vincent Deslauriers est un artiste et enseignant passionn
 é d'écriture et de transmission. Avec près de 30 ans d'expérience\, il
  a fait de l'écriture spontanée un outil de transformation personnelle e
 t créative. Sa poésie\, inspirée des paysages\, des territoires et des 
 mystères du cosmos\, invite à une exploration profonde et sensible de no
 tre environnement. Animé par le désir de guider et de raconter\, Vincent
  encourage chacun à écrire\, explorer et transformer\, pour révéler l'
 unicité de ce qui les anime..
 
 
 
 
 &nbsp\;
 
 
 
 
DTSTART:20250304T200000Z
DTSTAMP:20241114T065612Z
ORGANIZER;CN=Carrefour 50+ CB:MAILTO:dg@carrefour50cb.ca
END:VEVENT
END:VCALENDAR