BEGIN:VCALENDAR
VERSION:2.0
PRODID:Events Booking
BEGIN:VEVENT
UID:69e92d5ac392b
SUMMARY:Les multiples facettes du deuil 
DESCRIPTION:
 
 
 
 
 
 
 
 
 
 &nbsp\;
 &nbsp\;
 
 ANIMÉ PAR
 Jessica Dupuis
 Coordonnatrice nationale en gestion de projet pour la Fé
 dération des Aînés et des Aînées francophones du Canada et intervenan
 te psychosociale.
 
 
 
 
 DESCRIPTION
 Le deuil\, souvent associé 
 à la perte d’un être cher\, est un processus émotionnel éprouvant ma
 is essentiel à l’apaisement et à la croissance personnelle. Cet atelie
 r invite à explorer un sujet souvent ignoré par crainte ou par inconfort
 \, en mettant en lumière :
 
 Le processus et les étapes du deuil.
 L
 es émotions et réactions qu’il peut susciter.
 Les divers types de de
 uils au-delà du décès\, liés à différentes situations de vie.
 Des 
 outils bienveillants pour traverser et surmonter ces épreuves.
 
 Un es
 pace pour mieux comprendre\, accepter et avancer\, en transformant le deui
 l en une opportunité de résilience et de croissance.
 &nbsp\;
 &nbsp\;
 
 
 
 
 
DTSTART:20250211T200000Z
DTSTAMP:20230127T030932Z
ORGANIZER;CN=Carrefour 50+ CB:MAILTO:dg@carrefour50cb.ca
END:VEVENT
END:VCALENDAR