BEGIN:VCALENDAR
VERSION:2.0
PRODID:Events Booking
BEGIN:VEVENT
UID:69e98e0ba816f
SUMMARY:Les soins dentaires au Canada
DESCRIPTION:
 
 
 
 
 
 
 
 
 
 &nbsp\;
 &nbsp\;
 
 ANIMÉ PAR
 Peter Julian\, député fédéral de New Westminster-Burnaby
 
 
 
 

  DESCRIPTION
 L'atelier commencera par une présentation sur les récente
 s évolutions dans le domaine des soins de santé\, y compris le nouveau R
 égime canadien de soins dentaires et la Loi sur l'assurance-médicaments.
  Cette introduction sera suivie d'une session de questions-réponses\, per
 mettant aux participants de clarifier leurs doutes et d'approfondir leur c
 ompréhension des sujets abordés.
 
 
 
 
DTSTART:20241016T170000Z
DTSTAMP:20241011T031520Z
ORGANIZER;CN=Carrefour 50+ CB:MAILTO:dg@carrefour50cb.ca
END:VEVENT
END:VCALENDAR