BEGIN:VCALENDAR
VERSION:2.0
PRODID:Events Booking
BEGIN:VEVENT
UID:69e883f727b6d
SUMMARY:Méditation guidée pour 50+
DESCRIPTION:
 
 
 
 
 
 
 
 
 
 
 Méditons ensemble
 DESCRIPTI
 ON
 Apprenez la méditation profonde\, une technique naturelle et sans ef
 fort\, dans notre cours en ligne accessible à tous. Sans contrôle de l'e
 sprit ou manipulation de la conscience\, cette méditation est idéale pou
 r ceux qui recherchent une pratique simple et apaisante. Vous découvrirez
  comment relaxer profondément votre système nerveux\, bénéficiant ains
 i d'une clarté mentale et d'un bien-être accru. 
 Aucune expérience ou
  croyance spécifique n'est requise. Rejoignez-nous pour explorer un chemi
 n vers une paix intérieure durable.
 
 
 
 
 
 
 
 
  
 
 ANI
 MÉ PARNatalie Keiller
 
 
 
 
 BIOGRAPHIE
 Nathalie pratique la mé
 ditation de façon quotidienne depuis 1991 et enseigne depuis 2005. Ses ex
 périences et recherches personnelles l'ont amenée à s’engager dans un
 e formation d'instructeur de 2001 à 2005. 
 
 Instructeur de Méditati
 on Profonde (ou védique) et de Mindfulness\, ces approches ne nécessiten
 t ni effort\, ni contrôle\, et respectent la liberté et le mode d’expr
 ession de chacun. Tous peuvent apprendre\, et en plus des nombreux bienfai
 ts que la méditation apporte\, c’est ce qui motive Nathalie à enseigne
 r. Pour en savoir plus\, visitez son site web.
 
 
 
 
DTSTART:20250917T170000Z
DTSTAMP:20250625T021529Z
ORGANIZER;CN=Carrefour 50+ CB:MAILTO:dg@carrefour50cb.ca
END:VEVENT
END:VCALENDAR