BEGIN:VCALENDAR
VERSION:2.0
PRODID:Events Booking
BEGIN:VEVENT
UID:69e944f5541d5
SUMMARY:Méditons guidée pour 50+
DESCRIPTION:
 
 
 
 
 
 
 
 
 
 
 Méditons ensemble
 DESCRIPTI
 ON
 Apprenez la méditation profonde\, une technique naturelle et sans ef
 fort\, dans notre cours en ligne accessible à tous. Sans contrôle de l'e
 sprit ou manipulation de la conscience\, cette méditation est idéale pou
 r ceux qui recherchent une pratique simple et apaisante. Vous découvrirez
  comment relaxer profondément votre système nerveux\, bénéficiant ains
 i d'une clarté mentale et d'un bien-être accru. 
 Aucune expérience ou
  croyance spécifique n'est requise. Rejoignez-nous pour explorer un chemi
 n vers une paix intérieure durable.
 
 
 
 
 
 
 
 
 &nbsp\;
 
 
 ANIMÉ PARNatalie Keiller
 
 
 
 
 BIOGRAPHIE
 Nathalie pratique l
 a méditation de façon quotidienne depuis 1991 et enseigne depuis 2005. S
 es expériences et recherches personnelles l'ont amenée à s’engager da
 ns une formation d'instructeur de 2001 à 2005.&nbsp\;
 
 Instructeur de
  Méditation Profonde (ou védique) et de Mindfulness\, ces approches ne n
 écessitent ni effort\, ni contrôle\, et respectent la liberté et le mod
 e d’expression de chacun. Tous peuvent apprendre\, et en plus des nombre
 ux bienfaits que la méditation apporte\, c’est ce qui motive Nathalie 
 à enseigner. Pour en savoir plus\, visitez son site web.
 
 
 
 
DTSTART:20250128T180000Z
DTSTAMP:20240105T084918Z
ORGANIZER;CN=Carrefour 50+ CB:MAILTO:dg@carrefour50cb.ca
END:VEVENT
END:VCALENDAR