BEGIN:VCALENDAR
VERSION:2.0
PRODID:Events Booking
BEGIN:VEVENT
UID:69e853a1efbf8
SUMMARY:Intelligence artificielle : comment s'en servir au quotidien ?
DESCRIPTION:
 
 
 
 
 
 
 
 
 
 
 Intelligence artificielle : co
 mment s'en servir au quotidien ?
 Les bénéfices et les pièges au quoti
 dien
 DESCRIPTION 
 Vous entendez parler d'intelligence artificielle (IA
 ) partout : aux nouvelles\, dans les films\, dans les conversations de vos
  enfants et petits-enfants... Mais qu'est-ce que c'est vraiment ? Est-ce u
 ne technologie compliquée réservée aux experts\, ou un outil qui peut r
 éellement vous être utile ?
 Cet atelier d'une heure\, vous propose de 
 démystifier l'IA dans un langage simple\, sans jargon technique. L'object
 if n'est pas de faire de vous un programmeur\, mais un utilisateur averti 
 et confiant.
 Venez découvrir comment l'intelligence artificielle est d
 éjà présente dans votre vie et comment elle peut devenir une formidable
  alliée dans divers domaines de votre vie. Nous aborderons également\, d
 e manière claire et préventive\, les dangers potentiels (arnaques\, dés
 information\, protection de la vie privée) afin de vous donner les clés 
 pour naviguer le monde numérique en toute sérénité.
 
 Aucune connai
 ssance technique n'est requise. 
 Seule votre curiosité est la bienvenue
  !
 &nbsp\;
 
 
 
 
 
 
 
 
 &nbsp\;
 
 ANIMÉ PARFrédérique
  Niel&nbsp\;
 
 
 
 
 &nbsp\;
 Née en France de parents entrepreneu
 rs et établie à Vancouver depuis 1993\, Frédérique est une coach certi
 fiée ICF et une professionnelle bilingue passionnée par l'intelligence a
 rtificielle. Forte de sa formation en gestion hôtelière et de 17 ans à 
 la tête d'une entreprise de conception web\, elle s'est naturellement ori
 entée vers le coaching d'affaires en 2016. Depuis\, elle a accompagné pl
 us de 650 personnes grâce à des séances individuelles et des ateliers d
 e groupe. Son approche personnalisée est ancrée dans ses valeurs de curi
 osité\, de pensée analytique\, d'intégrité\, d'autonomie et de leaders
 hip\, des qualités qu'elle applique également en tant qu'avide utilisatr
 ice des outils d'IA.
 &nbsp\;
 
 
 
 
 
 
 
 &nbsp\;
 
 
 
 
 
 
 
 &nbsp\;
 
 
 
DTSTART:20251119T200000Z
DTSTAMP:20250709T005306Z
ORGANIZER;CN=Carrefour 50+ CB:MAILTO:dg@carrefour50cb.ca
END:VEVENT
END:VCALENDAR