BEGIN:VCALENDAR
VERSION:2.0
PRODID:Events Booking
BEGIN:VEVENT
UID:69e98cfa1d318
SUMMARY:Mieux s'organiser pour un maintien à domicile réussi
DESCRIPTION:
 
 
 
 
 
 
 
 
 
 
 Mieux s'organiser pour un main
 tien à domicile réussi
 DESCRIPTION
 Cet atelier vous permettra de dé
 couvrir comment adapter votre environnement pour répondre aux besoins sp
 écifiques des personnes fragilisées\, favorisant ainsi la prévention de
  la dépendance et le maintien à domicile. Sarah Corbière vous présente
 ra des solutions pratiques\, des aménagements ergonomiques et des technol
 ogies innovantes pour rendre votre maison plus sûre et plus accessible. 
 À travers des discussions interactives et des démonstrations concrètes\
 , apprenez à créer un cadre de vie qui soutient l'autonomie et le bien-
 être de chacun. Venez explorer comment des modifications simples peuvent 
 faire une grande différence et contribuer à une meilleure qualité de vi
 e à domicile.
 
 
 
 
 
 
 
 
 &nbsp\;
 
 ANIMÉ PARSarah Corb
 ière
 
 
 
 
 BIOGRAPHIE
 Sarah Corbiere est une passionnée de l'o
 rganisation et du rangement. Guidée par sa sensibilité envers l'ordre et
  son empathie envers les autres\, elle a choisi de se consacrer à l'organ
 isation des espaces de vie en créant Daily Life Organizing. Sa mission es
 t d'aider les personnes à retrouver plus de souffle dans leur quotidien e
 t à surmonter le poids des objets pour alléger leur vie. 
 Elle accompa
 gne ses clients avec douceur dans l'optimisation de leur lieu de vie et le
 s aide à trouver une meilleure organisation de son intérieur pour se sen
 tir mieux chez soi. Sarah consacre son énergie à améliorer la qualité 
 de vie de ses clients tout en favorisant une prise de conscience de leur e
 nvironnement quotidien.
 &nbsp\;
 
 
 
 
DTSTART:20241022T190000Z
DTSTAMP:20240106T021202Z
ORGANIZER;CN=Carrefour 50+ CB:MAILTO:dg@carrefour50cb.ca
END:VEVENT
END:VCALENDAR