BEGIN:VCALENDAR
VERSION:2.0
PRODID:Events Booking
BEGIN:VEVENT
UID:69e8223736d03
SUMMARY:On bouge ensemble
DESCRIPTION:
 
 
 
 &nbsp\;
 
 
 
 
DTSTART:20260115T190000Z
DTSTAMP:20251213T052746Z
ORGANIZER;CN=Carrefour 50+ CB:MAILTO:dg@carrefour50cb.ca
END:VEVENT
END:VCALENDAR