BEGIN:VCALENDAR
VERSION:2.0
PRODID:Events Booking
BEGIN:VEVENT
UID:69e774bea0759
SUMMARY:On bouge ensemble ! 
DESCRIPTION:
 
 
 
 &nbsp\;
 
 
 
 
DTSTART:20260409T180000Z
DTSTAMP:20251213T054017Z
ORGANIZER;CN=Carrefour 50+ CB:MAILTO:dg@carrefour50cb.ca
END:VEVENT
END:VCALENDAR