BEGIN:VCALENDAR
VERSION:2.0
PRODID:Events Booking
BEGIN:VEVENT
UID:69e78a37d4d89
SUMMARY:On bouge ensemble !
DESCRIPTION:
 
 
 
 &nbsp\;
 
 
 
 
DTSTART:20260604T180000Z
DTSTAMP:20260224T012828Z
ORGANIZER;CN=Carrefour 50+ CB:MAILTO:dg@carrefour50cb.ca
END:VEVENT
END:VCALENDAR