BEGIN:VCALENDAR
VERSION:2.0
PRODID:Events Booking
BEGIN:VEVENT
UID:69e78a2d80a56
SUMMARY:On bouge ensemble ! 
DESCRIPTION:
 
 
 
 &nbsp\;
 
 
 
 
DTSTART:20260305T190000Z
DTSTAMP:20251216T091250Z
ORGANIZER;CN=Carrefour 50+ CB:MAILTO:dg@carrefour50cb.ca
END:VEVENT
END:VCALENDAR